BEGIN:VCALENDAR
VERSION:2.0
PRODID:-//ChamberMaster//Event Calendar 2.0//EN
METHOD:PUBLISH
X-PUBLISHED-TTL:P1H
REFRESH-INTERVAL:P1H
CALSCALE:GREGORIAN
BEGIN:VTIMEZONE
TZID:America/Montreal
BEGIN:DAYLIGHT
RRULE:FREQ=YEARLY;BYMONTH=3;BYDAY=2SU
DTSTART:20070101T000000
TZOFFSETFROM:-0500
TZOFFSETTO:-0400
TZNAME:Eastern Daylight Time
END:DAYLIGHT
BEGIN:STANDARD
RRULE:FREQ=YEARLY;BYMONTH=11;BYDAY=1SU
DTSTART:20070101T000000
TZOFFSETFROM:-0400
TZOFFSETTO:-0500
TZNAME:Eastern Standard Time
END:STANDARD
END:VTIMEZONE
BEGIN:VEVENT
DTSTART;TZID=America/Montreal:20260514T150000
DTEND;TZID=America/Montreal:20260514T170000
X-MICROSOFT-CDO-ALLDAYEVENT:FALSE
SUMMARY:MEMBER EVENT: Business 9-1-1 - Crisis Communication Workshop
DESCRIPTION:Business owners\, nonprofit leaders\, educators\, and community professionals across Southern Ohio are invited to sharpen their leadership and communication skills at an upcoming Crisis Communication Workshop hosted at Shawnee State University's Kricker Innovation Hub.Taking place Thursday\, May 14 from 3 5 p.m. at the Kricker Innovation Hub\, 221 Chillicothe Street\, this interactive session is part of the Business 9-1-1 Info Series and is designed to equip participants with practical tools to respond effectively in high-pressure situations.Register today - Crisis Communication Workshop   Fill out form.The workshop will be led by Jason Lovins\, Ph.D.\, APR\, and Terry L. Hapney Jr.\, Ph.D.\, both faculty members at Shawnee State University with extensive experience in strategic communication\, leadership\, and applied learning. Special guest Dr. Chris Swindell\, with the Marshall University W. Page Pitt School of Journalism and Mass Communications\, will join as a workshop facilitator.Participants will learn how to:Respond quickly and confidently in crisis situationsBuild a crisis communication plan before it's neededCraft clear\, credible messaging for media\, stakeholders\, and the publicProtect organizational reputation and maintain trustAnalyze real-world case studies to understand what works and what doesn't
X-ALT-DESC;FMTTYPE=text/html:<!DOCTYPE html><html><head><title></title></head><body aria-disabled="false"><p>Business owners\, nonprofit leaders\, educators\, and community professionals across Southern Ohio are invited to sharpen their leadership and communication skills at an upcoming Crisis Communication Workshop hosted at Shawnee State University&rsquo\;s Kricker Innovation Hub.</p><p>Taking place Thursday\, May 14 from 3&ndash\;5 p.m. at the Kricker Innovation Hub\, 221 Chillicothe Street\, this interactive session is part of the Business 9-1-1 Info Series and is designed to equip participants with practical tools to respond effectively in high-pressure situations.</p><p><span style="white-space: pre-wrap\; caret-color: rgb(34\, 34\, 34)\; color: rgb(34\, 34\, 34)\; font-family: adelle-web\; font-size: 21px\; background-color: rgb(244\, 250\, 245)\;">Register today -&nbsp\;</span><a fr-original-style="white-space: pre-wrap\; color: rgb(30\, 65\, 124)\; text-decoration: none\; padding-bottom: 0.05em\; border-bottom-width: 1px\; border-bottom-style: solid\; border-bottom-color: rgba(30\, 65\, 124\, 0.3)\; transition: border-color 0.15s ease-out\, color 0.15s ease-out\; overflow-wrap: break-word\; font-family: adelle-web\; font-size: 21px\;" href="https://forms.cloud.microsoft/Pages/ResponsePage.aspx?id=IFyHJnWyD0WMgACyQ421G3kItrFmqypPruXzG2-vwxJUQ05UT1ZMNVpSNVIwQ0hES1FFOEQyRFBVNi4u" style="white-space: pre-wrap\; color: rgb(30\, 65\, 124)\; text-decoration: none\; padding-bottom: 0.05em\; border-bottom-width: 1px\; border-bottom-style: solid\; border-bottom-color: rgba(30\, 65\, 124\, 0.3)\; transition: border-color 0.15s ease-out\, color 0.15s ease-out\; overflow-wrap: break-word\; font-family: adelle-web\; font-size: 21px\; -webkit-user-select: auto\;">Crisis Communication Workshop &ndash\; Fill out form</a><span style="white-space: pre-wrap\; caret-color: rgb(34\, 34\, 34)\; color: rgb(34\, 34\, 34)\; font-family: adelle-web\; font-size: 21px\; background-color: rgb(244\, 250\, 245)\;">.</span></p><p>The workshop will be led by Jason Lovins\, Ph.D.\, APR\, and Terry L. Hapney Jr.\, Ph.D.\, both faculty members at Shawnee State University with extensive experience in strategic communication\, leadership\, and applied learning. Special guest Dr. Chris Swindell\, with the Marshall University W. Page Pitt School of Journalism and Mass Communications\, will join as a workshop facilitator.</p><p>Participants will learn how to:</p><ul fr-original-style="" style="list-style-position: inside\;"><li>Respond quickly and confidently in crisis situations</li><li>Build a crisis communication plan before it&rsquo\;s needed</li><li>Craft clear\, credible messaging for media\, stakeholders\, and the public</li><li>Protect organizational reputation and maintain trust</li><li>Analyze real-world case studies to understand what works&mdash\;and what doesn&rsquo\;t</li></ul></body></html>
LOCATION:940 2nd Street Kricker Innovation Hub Portsmouth OH 45662
UID:e.2753.1449543
SEQUENCE:3
DTSTAMP:20260425T004907Z
URL:https://members.chillicotheohio.com/events/Details/member-event-business-9-1-1-crisis-communication-workshop-1716992?sourceTypeId=Hub
END:VEVENT
END:VCALENDAR
