BEGIN:VCALENDAR
VERSION:2.0
PRODID:-//ChamberMaster//Event Calendar 2.0//EN
METHOD:PUBLISH
X-PUBLISHED-TTL:P1H
REFRESH-INTERVAL:P1H
CALSCALE:GREGORIAN
BEGIN:VTIMEZONE
TZID:America/Montreal
BEGIN:DAYLIGHT
RRULE:FREQ=YEARLY;BYMONTH=3;BYDAY=2SU
DTSTART:20070101T000000
TZOFFSETFROM:-0500
TZOFFSETTO:-0400
TZNAME:Eastern Daylight Time
END:DAYLIGHT
BEGIN:STANDARD
RRULE:FREQ=YEARLY;BYMONTH=11;BYDAY=1SU
DTSTART:20070101T000000
TZOFFSETFROM:-0400
TZOFFSETTO:-0500
TZNAME:Eastern Standard Time
END:STANDARD
END:VTIMEZONE
BEGIN:VEVENT
DTSTART;TZID=America/Montreal:20260521T080000
DTEND;TZID=America/Montreal:20260521T090000
X-MICROSOFT-CDO-ALLDAYEVENT:FALSE
SUMMARY:MEMBER EVENT: Coffee Talk with Atomic Credit Union
DESCRIPTION:Join Atomic Credit Union for a morning of coffee\, conversation\, and insight into how the credit union supports local businesses.
X-ALT-DESC;FMTTYPE=text/html:Join Atomic Credit Union for a morning of coffee\, conversation\, and insight into how the credit union supports local businesses.
LOCATION:1862 Shyville Road OSU South Center/Endeavor Center Piketon 45661
UID:e.2753.1449532
SEQUENCE:3
DTSTAMP:20260425T004627Z
URL:https://members.chillicotheohio.com/events/Details/member-event-coffee-talk-with-atomic-credit-union-1716981?sourceTypeId=Hub
END:VEVENT
END:VCALENDAR
